BEGIN:VCALENDAR
VERSION:2.0
PRODID:-//L.A.I. Laboratorio Analitico delle Immagini - ECPv6.15.17.1//NONSGML v1.0//EN
CALSCALE:GREGORIAN
METHOD:PUBLISH
X-WR-CALNAME:L.A.I. Laboratorio Analitico delle Immagini
X-ORIGINAL-URL:https://www.lai-group.org
X-WR-CALDESC:Eventi per L.A.I. Laboratorio Analitico delle Immagini
REFRESH-INTERVAL;VALUE=DURATION:PT1H
X-Robots-Tag:noindex
X-PUBLISHED-TTL:PT1H
BEGIN:VTIMEZONE
TZID:UTC
BEGIN:STANDARD
TZOFFSETFROM:+0000
TZOFFSETTO:+0000
TZNAME:UTC
DTSTART:20050101T000000
END:STANDARD
END:VTIMEZONE
BEGIN:VEVENT
DTSTART;TZID=UTC:20060527T093000
DTEND;TZID=UTC:20060527T133000
DTSTAMP:20260422T080110
CREATED:20180716T131447Z
LAST-MODIFIED:20180716T131447Z
UID:12963-1148722200-1148736600@www.lai-group.org
SUMMARY:GIOCO DELLA SABBIA O GIOCO DELLE FIGURINE?
DESCRIPTION:Con Ruth Ammann \nRichiedi informazioni (info@lai-group.org)\n 
URL:https://www.lai-group.org/evento/gioco-della-sabbia-o-gioco-delle-figurine/
LOCATION:Sede AIPA Roma\, via Pisanelli\, 1\, Roma\, Italia
CATEGORIES:Archivio eventi anni passati,Eventi L.A.I.,Seminari
ORGANIZER;CN="L.A.I.":MAILTO:info@lai-group.org
END:VEVENT
BEGIN:VEVENT
DTSTART;TZID=UTC:20060301T093000
DTEND;TZID=UTC:20060301T133000
DTSTAMP:20260422T080110
CREATED:20180716T132057Z
LAST-MODIFIED:20180716T132057Z
UID:12965-1141205400-1141219800@www.lai-group.org
SUMMARY:IL GIOCO DELLA SABBIA NELLA RELAZIONE ANALITICA: LE ALTRE PAROLE
DESCRIPTION:Con Paolo Aite\, Giuseppe Andreetto e Angelo Malinconico \nRichiedi informazioni (info@lai-group.org)\n 
URL:https://www.lai-group.org/evento/il-gioco-della-sabbia-nella-relazione-analitica-le-altre-parole/
LOCATION:Sede AIPA Roma\, via Pisanelli\, 1\, Roma\, Italia
CATEGORIES:Archivio eventi anni passati,Eventi L.A.I.,Seminari
ORGANIZER;CN="L.A.I.":MAILTO:info@lai-group.org
END:VEVENT
END:VCALENDAR