BEGIN:VCALENDAR
VERSION:2.0
PRODID:-//L.A.I. Laboratorio Analitico delle Immagini - ECPv6.15.17.1//NONSGML v1.0//EN
CALSCALE:GREGORIAN
METHOD:PUBLISH
X-WR-CALNAME:L.A.I. Laboratorio Analitico delle Immagini
X-ORIGINAL-URL:https://www.lai-group.org
X-WR-CALDESC:Eventi per L.A.I. Laboratorio Analitico delle Immagini
REFRESH-INTERVAL;VALUE=DURATION:PT1H
X-Robots-Tag:noindex
X-PUBLISHED-TTL:PT1H
BEGIN:VTIMEZONE
TZID:UTC
BEGIN:STANDARD
TZOFFSETFROM:+0000
TZOFFSETTO:+0000
TZNAME:UTC
DTSTART:20050101T000000
END:STANDARD
END:VTIMEZONE
BEGIN:VEVENT
DTSTART;VALUE=DATE:20070823
DTEND;VALUE=DATE:20070828
DTSTAMP:20260422T081953
CREATED:20180716T121112Z
LAST-MODIFIED:20180716T121112Z
UID:12938-1187827200-1188259199@www.lai-group.org
SUMMARY:INFLUENZE COLLETTIVE E CULTURALI SULL'ECOLOGIA DELLA PSICHE NEL GIOCO DELLA SABBIA
DESCRIPTION:Il tema di quest’anno è centrato su\n“Influenze Collettive e Culturali sull’Ecologia della Psiche nel Gioco della Sabbia”. \nGiovedì\, 23 Agosto\, 2007 \nLunedì\, 27 Agosto\, 2007 \nRichiedi informazioni (info@lai-group.org)\n 
URL:https://www.lai-group.org/evento/influenze-collettive-e-culturali-sullecologia-della-psiche-nel-gioco-della-sabbia/
LOCATION:Magdalene College\, Magdalene St\, Cambridge CB3 0AG\, Regno Unito
CATEGORIES:Archivio eventi anni passati,Eventi L.A.I.,Seminari
ORGANIZER;CN="L.A.I.":MAILTO:info@lai-group.org
END:VEVENT
BEGIN:VEVENT
DTSTART;VALUE=DATE:20070526
DTEND;VALUE=DATE:20070527
DTSTAMP:20260422T081953
CREATED:20180716T122340Z
LAST-MODIFIED:20180716T122340Z
UID:12943-1180137600-1180223999@www.lai-group.org
SUMMARY:UN PALCOSCENICO PER L'ANIMA: IL GIOCO DELLA SABBIA E LO PSICODRAMMA ANALITICO JUNGHIANO
DESCRIPTION:Con Angelo Malinconico\, Giulio Gasca e Maurizio Gasseau \nRichiedi informazioni (info@lai-group.org)\n 
URL:https://www.lai-group.org/evento/un-palcoscenico-per-lanima-il-gioco-della-sabbia-e-lo-psicodramma-analitico-junghiano/
LOCATION:Sede AIPA Roma\, via Pisanelli\, 1\, Roma\, Italia
CATEGORIES:Archivio eventi anni passati,Eventi L.A.I.,Seminari
ORGANIZER;CN="L.A.I.":MAILTO:info@lai-group.org
END:VEVENT
BEGIN:VEVENT
DTSTART;VALUE=DATE:20070331
DTEND;VALUE=DATE:20070401
DTSTAMP:20260422T081953
CREATED:20180716T123316Z
LAST-MODIFIED:20180716T123316Z
UID:12945-1175299200-1175385599@www.lai-group.org
SUMMARY:LA MATERIA IN GIOCO E IL GIOCO CON LA MATERIA. ANORESSIA E GIOCO DELLA SABBIA
DESCRIPTION:Con Patrizia Michelis \nRichiedi informazioni (info@lai-group.org)\n 
URL:https://www.lai-group.org/evento/la-materia-in-gioco-e-il-gioco-con-la-materia-anoressia-e-gioco-della-sabbia/
LOCATION:Sede AIPA Roma\, via Pisanelli\, 1\, Roma\, Italia
CATEGORIES:Archivio eventi anni passati,Eventi L.A.I.,Seminari
ORGANIZER;CN="L.A.I.":MAILTO:info@lai-group.org
END:VEVENT
BEGIN:VEVENT
DTSTART;TZID=UTC:20061125T093000
DTEND;TZID=UTC:20061125T133000
DTSTAMP:20260422T081953
CREATED:20180716T123803Z
LAST-MODIFIED:20180716T123803Z
UID:12948-1164447000-1164461400@www.lai-group.org
SUMMARY:TRACCE DELL’INIZIO: PRIME SABBIE E DINAMICHE DELLA RELAZIONE ANALITICA
DESCRIPTION:Con Giuseppe Andreetto e Michele Angelo Venier \nRichiedi informazioni (info@lai-group.org)\n 
URL:https://www.lai-group.org/evento/tracce-dellinizio-prime-sabbie-e-dinamiche-della-relazione-analitica/
LOCATION:Sede AIPA Roma\, via Pisanelli\, 1\, Roma\, Italia
CATEGORIES:Archivio eventi anni passati,Eventi L.A.I.,Seminari
ORGANIZER;CN="L.A.I.":MAILTO:info@lai-group.org
END:VEVENT
BEGIN:VEVENT
DTSTART;TZID=UTC:20061105T093000
DTEND;TZID=UTC:20061105T133000
DTSTAMP:20260422T081953
CREATED:20180716T124950Z
LAST-MODIFIED:20180716T124950Z
UID:12950-1162719000-1162733400@www.lai-group.org
SUMMARY:IMMAGINI DALL'INCONSCIO - GIORNATA DEDICATA ALL'ARTE DELLA MARGINALITÀ
DESCRIPTION:Con Lidia Tarantini\, Maria Rosa Soci\, Aimé Agnel\, Brigitte Allain Dupré\, Sami Ali\, Cesare Maria Pietroiusti\, Paolo Aite\, Luigi Turinese. \nRichiedi informazioni (info@lai-group.org)\n 
URL:https://www.lai-group.org/evento/immagini-dallinconscio-giornata-dedicata-allarte-della-marginalita/
LOCATION:Sede AIPA Roma\, via Pisanelli\, 1\, Roma\, Italia
CATEGORIES:Archivio eventi anni passati,Eventi L.A.I.,Seminari
ORGANIZER;CN="L.A.I.":MAILTO:info@lai-group.org
END:VEVENT
BEGIN:VEVENT
DTSTART;TZID=UTC:20061026T093000
DTEND;TZID=UTC:20061026T133000
DTSTAMP:20260422T081953
CREATED:20180716T125303Z
LAST-MODIFIED:20180716T125303Z
UID:12952-1161855000-1161869400@www.lai-group.org
SUMMARY:IL MONDO INTERNO DEL BAMBINO A CONTATTO CON LA PATOLOGIA MENTALE E LA VIOLENZA GENITORIALE
DESCRIPTION:Con Stefania Baldassari \nRichiedi informazioni (info@lai-group.org)\n 
URL:https://www.lai-group.org/evento/il-mondo-interno-del-bambino-a-contatto-con-la-patologia-mentale-e-la-violenza-genitoriale/
LOCATION:Sede AIPA Roma\, via Pisanelli\, 1\, Roma\, Italia
CATEGORIES:Archivio eventi anni passati,Eventi L.A.I.,Seminari
ORGANIZER;CN="L.A.I.":MAILTO:info@lai-group.org
END:VEVENT
BEGIN:VEVENT
DTSTART;TZID=UTC:20060930T093000
DTEND;TZID=UTC:20060930T133000
DTSTAMP:20260422T081953
CREATED:20180716T125854Z
LAST-MODIFIED:20180716T125854Z
UID:12954-1159608600-1159623000@www.lai-group.org
SUMMARY:L'IMMAGINE HA/A PIÙ DIMENSIONI
DESCRIPTION:Con Nicole Janigro \nRichiedi informazioni (info@lai-group.org)\n 
URL:https://www.lai-group.org/evento/limmagine-ha-a-piu-dimensioni/
LOCATION:Sede AIPA Roma\, via Pisanelli\, 1\, Roma\, Italia
CATEGORIES:Archivio eventi anni passati,Eventi L.A.I.,Seminari
ORGANIZER;CN="L.A.I.":MAILTO:info@lai-group.org
END:VEVENT
BEGIN:VEVENT
DTSTART;VALUE=DATE:20060624
DTEND;VALUE=DATE:20060625
DTSTAMP:20260422T081953
CREATED:20180716T131250Z
LAST-MODIFIED:20180716T131250Z
UID:12961-1151107200-1151193599@www.lai-group.org
SUMMARY:FECONDAZIONE 'INSISTITA' TRA LA STERILITÀ DEL CORPO E LA FECONDITÀ DELL'INCONSCIO. UN CASO CLINICO
DESCRIPTION:Con Lidia Tarantini \nRichiedi informazioni (info@lai-group.org)\n 
URL:https://www.lai-group.org/evento/fecondazione-insistita-tra-la-sterilita-del-corpo-e-la-fecondita-dellinconscio-un-caso-clinico/
LOCATION:Sede AIPA Roma\, via Pisanelli\, 1\, Roma\, Italia
CATEGORIES:Archivio eventi anni passati,Eventi L.A.I.,Seminari
ORGANIZER;CN="L.A.I.":MAILTO:info@lai-group.org
END:VEVENT
BEGIN:VEVENT
DTSTART;VALUE=DATE:20060624
DTEND;VALUE=DATE:20060625
DTSTAMP:20260422T081953
CREATED:20180716T130850Z
LAST-MODIFIED:20180716T130850Z
UID:12959-1151107200-1151193599@www.lai-group.org
SUMMARY:SETTING ANALITICO GRUPPALE E GIOCO DELLA SABBIA
DESCRIPTION:Con Angelo Malinconico \nRichiedi informazioni (info@lai-group.org)\n 
URL:https://www.lai-group.org/evento/setting-analitico-gruppale-e-gioco-della-sabbia/
LOCATION:Sede AIPA Napoli\, via Cervantes\, 55/16\, Napoli\, Italia
CATEGORIES:Archivio eventi anni passati,Eventi L.A.I.,Seminari
ORGANIZER;CN="L.A.I.":MAILTO:info@lai-group.org
END:VEVENT
BEGIN:VEVENT
DTSTART;TZID=UTC:20060617T144500
DTEND;TZID=UTC:20060617T160000
DTSTAMP:20260422T081953
CREATED:20180716T130342Z
LAST-MODIFIED:20180716T130342Z
UID:12956-1150555500-1150560000@www.lai-group.org
SUMMARY:LE LIEU DES ORIGINES: STÉRILITÉ FÉMININE ET JEU DU SABLE
DESCRIPTION:Con Lidia Tarantini \n“Le lieu des origines: Stérilité féminine et jeu du sable”\nIntervento di Lidia Tarantini nel quadro del “IXème Colloque International de Psychosomatique – Entre l’âme et le corps: les pathologies humaines” organizzato dal Centre International de Psychosomatique. \nRichiedi informazioni (info@lai-group.org)\n 
URL:https://www.lai-group.org/evento/le-lieu-des-origines-sterilite-feminine-et-jeu-du-sable/
LOCATION:Palais du Luxembourg\, 15 Rue de Vaugirard\, Parigi\, Francia
CATEGORIES:Archivio eventi anni passati,Eventi L.A.I.,Seminari
ORGANIZER;CN="L.A.I.":MAILTO:info@lai-group.org
END:VEVENT
BEGIN:VEVENT
DTSTART;TZID=UTC:20060527T093000
DTEND;TZID=UTC:20060527T133000
DTSTAMP:20260422T081953
CREATED:20180716T131447Z
LAST-MODIFIED:20180716T131447Z
UID:12963-1148722200-1148736600@www.lai-group.org
SUMMARY:GIOCO DELLA SABBIA O GIOCO DELLE FIGURINE?
DESCRIPTION:Con Ruth Ammann \nRichiedi informazioni (info@lai-group.org)\n 
URL:https://www.lai-group.org/evento/gioco-della-sabbia-o-gioco-delle-figurine/
LOCATION:Sede AIPA Roma\, via Pisanelli\, 1\, Roma\, Italia
CATEGORIES:Archivio eventi anni passati,Eventi L.A.I.,Seminari
ORGANIZER;CN="L.A.I.":MAILTO:info@lai-group.org
END:VEVENT
BEGIN:VEVENT
DTSTART;TZID=UTC:20060301T093000
DTEND;TZID=UTC:20060301T133000
DTSTAMP:20260422T081953
CREATED:20180716T132057Z
LAST-MODIFIED:20180716T132057Z
UID:12965-1141205400-1141219800@www.lai-group.org
SUMMARY:IL GIOCO DELLA SABBIA NELLA RELAZIONE ANALITICA: LE ALTRE PAROLE
DESCRIPTION:Con Paolo Aite\, Giuseppe Andreetto e Angelo Malinconico \nRichiedi informazioni (info@lai-group.org)\n 
URL:https://www.lai-group.org/evento/il-gioco-della-sabbia-nella-relazione-analitica-le-altre-parole/
LOCATION:Sede AIPA Roma\, via Pisanelli\, 1\, Roma\, Italia
CATEGORIES:Archivio eventi anni passati,Eventi L.A.I.,Seminari
ORGANIZER;CN="L.A.I.":MAILTO:info@lai-group.org
END:VEVENT
END:VCALENDAR