BEGIN:VCALENDAR
VERSION:2.0
PRODID:-//L.A.I. Laboratorio Analitico delle Immagini - ECPv6.15.17.1//NONSGML v1.0//EN
CALSCALE:GREGORIAN
METHOD:PUBLISH
X-WR-CALNAME:L.A.I. Laboratorio Analitico delle Immagini
X-ORIGINAL-URL:https://www.lai-group.org
X-WR-CALDESC:Eventi per L.A.I. Laboratorio Analitico delle Immagini
REFRESH-INTERVAL;VALUE=DURATION:PT1H
X-Robots-Tag:noindex
X-PUBLISHED-TTL:PT1H
BEGIN:VTIMEZONE
TZID:UTC
BEGIN:STANDARD
TZOFFSETFROM:+0000
TZOFFSETTO:+0000
TZNAME:UTC
DTSTART:20170101T000000
END:STANDARD
END:VTIMEZONE
BEGIN:VTIMEZONE
TZID:Europe/Rome
BEGIN:DAYLIGHT
TZOFFSETFROM:+0100
TZOFFSETTO:+0200
TZNAME:CEST
DTSTART:20140330T010000
END:DAYLIGHT
BEGIN:STANDARD
TZOFFSETFROM:+0200
TZOFFSETTO:+0100
TZNAME:CET
DTSTART:20141026T010000
END:STANDARD
BEGIN:DAYLIGHT
TZOFFSETFROM:+0100
TZOFFSETTO:+0200
TZNAME:CEST
DTSTART:20150329T010000
END:DAYLIGHT
BEGIN:STANDARD
TZOFFSETFROM:+0200
TZOFFSETTO:+0100
TZNAME:CET
DTSTART:20151025T010000
END:STANDARD
BEGIN:DAYLIGHT
TZOFFSETFROM:+0100
TZOFFSETTO:+0200
TZNAME:CEST
DTSTART:20160327T010000
END:DAYLIGHT
BEGIN:STANDARD
TZOFFSETFROM:+0200
TZOFFSETTO:+0100
TZNAME:CET
DTSTART:20161030T010000
END:STANDARD
BEGIN:DAYLIGHT
TZOFFSETFROM:+0100
TZOFFSETTO:+0200
TZNAME:CEST
DTSTART:20170326T010000
END:DAYLIGHT
BEGIN:STANDARD
TZOFFSETFROM:+0200
TZOFFSETTO:+0100
TZNAME:CET
DTSTART:20171029T010000
END:STANDARD
BEGIN:DAYLIGHT
TZOFFSETFROM:+0100
TZOFFSETTO:+0200
TZNAME:CEST
DTSTART:20180325T010000
END:DAYLIGHT
BEGIN:STANDARD
TZOFFSETFROM:+0200
TZOFFSETTO:+0100
TZNAME:CET
DTSTART:20181028T010000
END:STANDARD
BEGIN:DAYLIGHT
TZOFFSETFROM:+0100
TZOFFSETTO:+0200
TZNAME:CEST
DTSTART:20190331T010000
END:DAYLIGHT
BEGIN:STANDARD
TZOFFSETFROM:+0200
TZOFFSETTO:+0100
TZNAME:CET
DTSTART:20191027T010000
END:STANDARD
END:VTIMEZONE
BEGIN:VTIMEZONE
TZID:UTC
BEGIN:STANDARD
TZOFFSETFROM:+0000
TZOFFSETTO:+0000
TZNAME:UTC
DTSTART:20140101T000000
END:STANDARD
END:VTIMEZONE
BEGIN:VEVENT
DTSTART;TZID=UTC:20180526T180000
DTEND;TZID=UTC:20180526T200000
DTSTAMP:20260421T173541
CREATED:20180626T152214Z
LAST-MODIFIED:20190126T154127Z
UID:12640-1527357600-1527364800@www.lai-group.org
SUMMARY:RISONANZE - TRA PITTURA E PSICHE
DESCRIPTION:Sabato 26 Maggio\, ore 18: Raffaella Bozzini\, Daniela Bonelli Bassano\, Romano Màdera\, Guido Strazza. \nDomenica 27 Maggio\, ore 18: Domenico Chianese\, Pina Galeazzi\, Angelo Malinconico. \nRichiedi informazioni (info@lai-group.org)
URL:https://www.lai-group.org/evento/risonanze-tra-pittura-e-psiche/
LOCATION:Galleria Edieuropa\, Piazza Cenci 56\, Roma\, Roma\, Italia
CATEGORIES:Archivio eventi anni passati,Eventi L.A.I.,Seminari
ATTACH;FMTTYPE=image/jpeg:https://www.lai-group.org/wp-content/uploads/2018/06/RISONANZE.jpg
END:VEVENT
BEGIN:VEVENT
DTSTART;TZID=UTC:20180526T093000
DTEND;TZID=UTC:20180526T133000
DTSTAMP:20260421T173541
CREATED:20180626T152937Z
LAST-MODIFIED:20190126T154128Z
UID:12646-1527327000-1527341400@www.lai-group.org
SUMMARY:RIFLESSIONI SULLA FUNZIONE PROSPETTICA E PROGNOSTICA DELLE IMMAGINI  NEL GIOCO DELLA SABBIA
DESCRIPTION:Con Patrizia Michelis \nJung\, a proposito della funzione prospettica del sogno\, scrive : “….è un anticipazione di future azioni consce che affiora nell’inconscio\, un che di analogo a un esercizio preliminare o a uno schizzo preparatorio\, un progetto abbozzato in anticipo […] Non è più profetica di quanto lo siano una prognosi medica o una previsione meteorologica”. \nE in altro passo scrive: “i sogni preparano\, annunciano o mettono in guardia da determinate situazioni\, spesso assai prima che si traducano in realtà”. \nLa funzione prospettica del sogno come si può declinare nel gioco della sabbia?  \nQual è il valore prognostico e clinico del Gioco della Sabbia nel lavoro analitico e durante il decorso del processo terapeutico? Quali ombre del campo analitico “giocano” nella sabbia quando cresce la tensione energetica nella psiche del paziente? L’intuizione dell’analista come si intreccia con la funzione prospettica dell’immagine\, quali passaggi e processi intervengono nel “destino” di questo intreccio? Quali risorse possiamo trovare nelle scene di gioco quando siamo di fronte ad una temperie affettiva improvvisa e tumultuosa che interroga la capacità clinica e analitica?  \nIl caso clinico ci permetterà di indagare su queste e su tante altre domande\, di guardare e ri-guardare le immagini dei sogni e della sabbia e di dialogare con esse\, alla ricerca di quel filo nascosto sfuggito allo sguardo. \nRichiedi informazioni (info@lai-group.org)
URL:https://www.lai-group.org/evento/riflessioni-sulla-funzione-prospettica-e-prognostica-delle-immagini-nel-gioco-della-sabbia/
LOCATION:Sede AIPA di Roma\, via Antonio Musa\, 15\, Roma\, Italia
CATEGORIES:Archivio eventi anni passati,Eventi L.A.I.,Seminari
ATTACH;FMTTYPE=image/jpeg:https://www.lai-group.org/wp-content/uploads/2018/06/Riflessioni-sulla-funzione-prospettica-.jpg
END:VEVENT
BEGIN:VEVENT
DTSTART;TZID=UTC:20180324T093000
DTEND;TZID=UTC:20180324T133000
DTSTAMP:20260421T173541
CREATED:20180626T132142Z
LAST-MODIFIED:20190126T154128Z
UID:12617-1521883800-1521898200@www.lai-group.org
SUMMARY:DAI SENSI AI SENSI
DESCRIPTION:Con Pina Galeazzi \n«Dai sensi\, passando attraverso i simboli\, si deve ritornare ai sensi»\, scrive Domenico Chianese. Per sentire la vita.\nL’area del rinnovamento\, a volte rivificazione sensoriale\, può trovare molti modi di esprimersi nella relazione analitica\, nel suo accompagnare la trasformazione.\nE sicuramente toccare la sabbia e giocarci è uno dei modi più potenti per farne esperienza. Per ricostituire un corpo che sente\, una sensibilità dell’esistere.\nPer contattare la sinestesia del vivente\, sulle tracce del gesto che crea. \nRichiedi informazioni (info@lai-group.org)
URL:https://www.lai-group.org/evento/dai-sensi-ai-sensi/
LOCATION:Sede AIPA di Roma\, via Antonio Musa\, 15\, Roma\, Italia
CATEGORIES:Archivio eventi anni passati,Eventi L.A.I.,Seminari
ATTACH;FMTTYPE=image/jpeg:https://www.lai-group.org/wp-content/uploads/2018/01/daisensiaisensi.jpg
ORGANIZER;CN="L.A.I.":MAILTO:info@lai-group.org
END:VEVENT
BEGIN:VEVENT
DTSTART;TZID=UTC:20180224T093000
DTEND;TZID=UTC:20180224T133000
DTSTAMP:20260421T173541
CREATED:20180626T130027Z
LAST-MODIFIED:20190126T154128Z
UID:12618-1519464600-1519479000@www.lai-group.org
SUMMARY:TRAUMA E "MORAL INJURY": DINAMICHE DELLA COMPENSAZIONE E DEL  CONTRAPPASSO A FRONTE DELLE FORZE DEL RINNOVAMENTO.
DESCRIPTION:Con Romano Màdera \nRichiedi informazioni (info@lai-group.org)
URL:https://www.lai-group.org/evento/trauma-e-moral-injury-dinamiche-della-compensazione-e-del-contrappasso-a-fronte-delle-forze-del-rinnovamento/
LOCATION:Sede AIPA di Roma\, via Antonio Musa\, 15\, Roma\, Italia
CATEGORIES:Archivio eventi anni passati,Eventi L.A.I.,Seminari
ATTACH;FMTTYPE=image/jpeg:https://www.lai-group.org/wp-content/uploads/2018/01/Trauma-e-Moral-Injury-.jpg
ORGANIZER;CN="L.A.I.":MAILTO:info@lai-group.org
END:VEVENT
BEGIN:VEVENT
DTSTART;TZID=UTC:20180127T093000
DTEND;TZID=UTC:20180127T133000
DTSTAMP:20260421T173541
CREATED:20180625T131059Z
LAST-MODIFIED:20190126T154128Z
UID:12574-1517045400-1517059800@www.lai-group.org
SUMMARY:IL MECCANISMO
DESCRIPTION:Con Clementina Pavoni \nIl fotogramma del film di Fritz Lang rende efficacemente il legame indissolubile dell’uomo inchiodato alla macchina nel sottosuolo della città di Metropolis. \nQuando nell’infanzia accade più e più volte un avvenimento traumatico sembra che a quel dolore ci si possa avvinghiare ciecamente nel corso della vita per riviverlo senza sosta. In contesti diversi ma con identiche modalità. \nIl Gioco della Sabbia ha offerto all’analizzante e all’analista la possibilità di vedere la rappresentazione di quel ‘meccanismo’\, e di rivivere\, oggettivandolo\, il legame coercitivo. \nRichiedi informazioni (info@lai-group.org)
URL:https://www.lai-group.org/evento/il-meccanismo/
LOCATION:Sede AIPA di Roma\, via Antonio Musa\, 15\, Roma\, Italia
CATEGORIES:Archivio eventi anni passati,Eventi L.A.I.,Seminari
ATTACH;FMTTYPE=image/jpeg:https://www.lai-group.org/wp-content/uploads/2018/01/meccanismo.jpg
ORGANIZER;CN="L.A.I.":MAILTO:info@lai-group.org
END:VEVENT
BEGIN:VEVENT
DTSTART;TZID=Europe/Rome:20180111T203000
DTEND;TZID=Europe/Rome:20180111T223000
DTSTAMP:20260421T173541
CREATED:20200918T082635Z
LAST-MODIFIED:20200918T082635Z
UID:14218-1515702600-1515709800@www.lai-group.org
SUMMARY:LE DINAMICHE CO-TRANSFERALI NEI SOGNI E NELLE SABBIE
DESCRIPTION:Gruppo ECM di formazione sul campo per la Ricerca Teorico-Clinica sulle dinamiche co-transferali nei sogni e nelle sabbie. \nCoordinato da Patrizia Peresso \nRiservato agli iscritti. \nNel 2018 il lavoro si articolerà in 10 incontri da gennaio a novembre con l’esclusione di agosto\, il secondo giovedì di ogni mese dalle 20\,30 alle 22\,30.
URL:https://www.lai-group.org/evento/le-dinamiche-co-transferali-nei-sogni-e-nelle-sabbie-9/
LOCATION:Sede AIPA di Roma\, via Antonio Musa\, 15\, Roma\, Italia
CATEGORIES:Archivio eventi anni passati,Eventi L.A.I.,Formazione
ATTACH;FMTTYPE=image/jpeg:https://www.lai-group.org/wp-content/uploads/2020/09/2018-IMG-2597.jpg
END:VEVENT
BEGIN:VEVENT
DTSTART;TZID=Europe/Rome:20180110T110000
DTEND;TZID=Europe/Rome:20180110T130000
DTSTAMP:20260421T173541
CREATED:20200918T082228Z
LAST-MODIFIED:20200918T082228Z
UID:14215-1515582000-1515589200@www.lai-group.org
SUMMARY:UNA PSICOLOGIA ANALITICA PER LA COPPIA
DESCRIPTION:Gruppo ECM di formazione sul campo per la Ricerca Teorico-Clinica sulla terapia con le coppie. \nCon Fulvia De Benedittis\, Sandra Fersurella\, Silvia Presciuttini. \nRiservato agli iscritti.\nNel 2018 il lavoro si articolerà in 10 incontri da gennaio a novembre con l’esclusione di agosto\, il secondo mercoledì di ogni mese dalle 11 alle 13.
URL:https://www.lai-group.org/evento/una-psicologia-analitica-per-la-coppia-10/
LOCATION:Sede AIPA di Roma\, via Antonio Musa\, 15\, Roma\, Italia
CATEGORIES:Archivio eventi anni passati,Eventi L.A.I.,Formazione
ATTACH;FMTTYPE=image/jpeg:https://www.lai-group.org/wp-content/uploads/2020/09/Coppia-2018.jpg
END:VEVENT
BEGIN:VEVENT
DTSTART;VALUE=DATE:20171104
DTEND;VALUE=DATE:20171105
DTSTAMP:20260421T173541
CREATED:20180628T122752Z
LAST-MODIFIED:20180628T122752Z
UID:12649-1509753600-1509839999@www.lai-group.org
SUMMARY:CORSO DI FORMAZIONE: " IL GIOCO DELLA SABBIA"
DESCRIPTION:Proposto dalla Sezione Napoletana dell’Associazione Italiana di Psicologia Analitica – AIPA- con il patrocino del Laboratorio Analitico delle Immagini -LAI \nRelatori: Angelo Malinconico\, Giuseppe Andreetto\, Franco Castellana\, Fulvia De Beneddittis\, Sandrina Fersusella\, Mario Mastroianni\, Silvia Presciuttini\, Massimiliano Scarpelli \n4 e 18 Novembre\, 2017 (Tutto il giorno)\n2 e 16 Dicembre\, 2017 (Tutto il giorno) \n  \nRichiedi informazioni (info@lai-group.org)
URL:https://www.lai-group.org/evento/corso-di-formazione-il-gioco-della-sabbia-1/
LOCATION:Sede AIPA Napoli\, via Cervantes\, 55/16\, Napoli\, Italia
CATEGORIES:Archivio eventi anni passati,Eventi L.A.I.,Formazione
END:VEVENT
BEGIN:VEVENT
DTSTART;TZID=UTC:20170527T093000
DTEND;TZID=UTC:20170527T133000
DTSTAMP:20260421T173541
CREATED:20180628T123551Z
LAST-MODIFIED:20180628T123551Z
UID:12650-1495877400-1495891800@www.lai-group.org
SUMMARY:IL GIOCO DELLA SABBIA: TESTIMONIANZA DI CURA TRA PSICOSI E GESTO CREATIVO
DESCRIPTION:Con Ivan Paterlini \nRichiedi informazioni (info@lai-group.org)
URL:https://www.lai-group.org/evento/il-gioco-della-sabbia-testimonianza-di-cura-tra-psicosi-e-gesto-creativo/
LOCATION:Sede AIPA di Roma\, via Antonio Musa\, 15\, Roma\, Italia
CATEGORIES:Archivio eventi anni passati,Eventi L.A.I.,Formazione
ORGANIZER;CN="L.A.I.":MAILTO:info@lai-group.org
END:VEVENT
BEGIN:VEVENT
DTSTART;TZID=Europe/Rome:20170420T153000
DTEND;TZID=Europe/Rome:20170420T153000
DTSTAMP:20260421T173541
CREATED:20200918T081655Z
LAST-MODIFIED:20200918T082321Z
UID:14212-1492702200-1492702200@www.lai-group.org
SUMMARY:THE JOURNAL OF ANALYTICAL PSYCHOLOGY XIV INTERNATIONAL CONFERENCE
DESCRIPTION:20 April-23 April\, 2017 \nP.Peresso\,il 22 aprile\, alle 15\,30 tiene la Relazione su: The Effect of  Dissociation in Non-verbal Communication in the Analytic Couple. The value of Rhythm
URL:https://www.lai-group.org/evento/the-journal-of-analytical-psychology-xiv-international-conference/
LOCATION:Roosevelt Hotel\, 45 East 45th Street & Madison Avenue\, New York\, NY\, 10017\, Stati Uniti
CATEGORIES:Archivio eventi anni passati,Eventi L.A.I.,Seminari
ATTACH;FMTTYPE=image/jpeg:https://www.lai-group.org/wp-content/uploads/2020/09/new-York-Jap-Conference-2017-.jpg
END:VEVENT
BEGIN:VEVENT
DTSTART;TZID=UTC:20170325T093000
DTEND;TZID=UTC:20170325T133000
DTSTAMP:20260421T173541
CREATED:20180628T131312Z
LAST-MODIFIED:20180628T131312Z
UID:12653-1490434200-1490448600@www.lai-group.org
SUMMARY:SEMINARIO AIPA-LAI TERAPIA DELLA COPPIA: GIOCO\, GESTO E PAROLA NEL CORPO SOTTILE
DESCRIPTION:Con Fulvia De Benedittis\, Sandrina Fersurella\, Silvia Presciuttini. \nRichiedi informazioni (info@lai-group.org)
URL:https://www.lai-group.org/evento/seminario-aipa-lai-terapia-della-coppia/
LOCATION:Sede AIPA di Roma\, via Antonio Musa\, 15\, Roma\, Italia
CATEGORIES:Archivio eventi anni passati,Eventi L.A.I.,Seminari
ORGANIZER;CN="L.A.I.":MAILTO:info@lai-group.org
END:VEVENT
BEGIN:VEVENT
DTSTART;TZID=UTC:20170225T093000
DTEND;TZID=UTC:20170225T133000
DTSTAMP:20260421T173541
CREATED:20180723T075156Z
LAST-MODIFIED:20180723T075156Z
UID:13125-1488015000-1488029400@www.lai-group.org
SUMMARY:IL GIOCO DELLA SABBIA: RITMO E MOVIMENTO DELLE IMMAGINI TRA PAROLA E GESTO
DESCRIPTION:Con Giuseppe Andreetto \nRichiedi informazioni (info@lai-group.org)
URL:https://www.lai-group.org/evento/il-gioco-della-sabbia-ritmo-e-movimento-delle-immagini-tra-parola-e-gesto/
LOCATION:Sede AIPA di Roma\, via Antonio Musa\, 15\, Roma\, Italia
CATEGORIES:Archivio eventi anni passati,Eventi L.A.I.,Seminari
ORGANIZER;CN="L.A.I.":MAILTO:info@lai-group.org
END:VEVENT
BEGIN:VEVENT
DTSTART;TZID=Europe/Rome:20170211T103000
DTEND;TZID=Europe/Rome:20170211T153000
DTSTAMP:20260421T173541
CREATED:20200918T081156Z
LAST-MODIFIED:20200918T081156Z
UID:14209-1486809000-1486827000@www.lai-group.org
SUMMARY:EDINBURGH NEUROSCIENCE RESEARCH GROUP
DESCRIPTION:11 Febbraio-11- 1 Aprile- 10 Giugno\, 2017 \nP.Peresso\, l’11 febbraio\, il 1° aprile e il 10 giugno\, alle 10\,45 tiene 3 Relazioni su: Neuroscience\, Change and Sandplay
URL:https://www.lai-group.org/evento/edinburgh-neuroscience-research-group-3/
LOCATION:Edinburgh Quaker Meeting House\, 7 Victoria Terrace\, Edimburgh\, EH1 2JL\, Regno Unito
CATEGORIES:Archivio eventi anni passati,Eventi L.A.I.,Seminari
END:VEVENT
BEGIN:VEVENT
DTSTART;TZID=UTC:20170128T093000
DTEND;TZID=UTC:20170128T133000
DTSTAMP:20260421T173541
CREATED:20180723T074956Z
LAST-MODIFIED:20180723T074956Z
UID:13123-1485595800-1485610200@www.lai-group.org
SUMMARY:GIOCARE CON LA SABBIA\, IN GRUPPO\, SOGNI GIÀ ANALIZZATI: ELOGIO DELL’INSATURO
DESCRIPTION:Con Angelo Malinconico \nRichiedi informazioni (info@lai-group.org)
URL:https://www.lai-group.org/evento/giocare-con-la-sabbia-in-gruppo-sogni-gia-analizzati-elogio-dellinsaturo/
LOCATION:Sede AIPA di Roma\, via Antonio Musa\, 15\, Roma\, Italia
CATEGORIES:Archivio eventi anni passati,Eventi L.A.I.,Seminari
ORGANIZER;CN="L.A.I.":MAILTO:info@lai-group.org
END:VEVENT
BEGIN:VEVENT
DTSTART;TZID=Europe/Rome:20170112T203000
DTEND;TZID=Europe/Rome:20170112T223000
DTSTAMP:20260421T173541
CREATED:20200918T081028Z
LAST-MODIFIED:20200918T081028Z
UID:14207-1484253000-1484260200@www.lai-group.org
SUMMARY:LE DINAMICHE CO-TRANSFERALI NEI SOGNI E NELLE SABBIE
DESCRIPTION:Gruppo ECM di formazione sul campo per la Ricerca Teorico-Clinica sulle dinamiche co-transferali nei sogni e nelle sabbie. \nCoordinato da Patrizia Peresso \nRiservato agli iscritti. \nNel 2017 il lavoro si articolerà in 10 incontri da gennaio a novembre con l’esclusione di agosto\, il secondo giovedì di ogni mese dalle 20\,30 alle 22\,30.
URL:https://www.lai-group.org/evento/le-dinamiche-co-transferali-nei-sogni-e-nelle-sabbie-8/
LOCATION:Sede AIPA di Roma\, via Antonio Musa\, 15\, Roma\, Italia
CATEGORIES:Archivio eventi anni passati,Eventi L.A.I.,Formazione
END:VEVENT
BEGIN:VEVENT
DTSTART;TZID=Europe/Rome:20170111T110000
DTEND;TZID=Europe/Rome:20170111T130000
DTSTAMP:20260421T173541
CREATED:20200918T080933Z
LAST-MODIFIED:20200918T080933Z
UID:14205-1484132400-1484139600@www.lai-group.org
SUMMARY:UNA PSICOLOGIA ANALITICA PER LA COPPIA
DESCRIPTION:Gruppo ECM di formazione sul campo per la Ricerca Teorico-Clinica sulla terapia con le coppie. \nCon Fulvia De Benedittis\, Sandra Fersurella\, Silvia Presciuttini. \nRiservato agli iscritti.\nNel 2017 il lavoro si articolerà in 10 incontri da gennaio a novembre con l’esclusione di agosto\, il secondo mercoledì di ogni mese dalle 11 alle 13.
URL:https://www.lai-group.org/evento/una-psicologia-analitica-per-la-coppia-9/
LOCATION:Sede AIPA di Roma\, via Antonio Musa\, 15\, Roma\, Italia
CATEGORIES:Archivio eventi anni passati,Eventi L.A.I.,Formazione
END:VEVENT
BEGIN:VEVENT
DTSTART;TZID=UTC:20161001T103000
DTEND;TZID=UTC:20161001T130000
DTSTAMP:20260421T173541
CREATED:20180628T132559Z
LAST-MODIFIED:20180628T132559Z
UID:12701-1475317800-1475326800@www.lai-group.org
SUMMARY:QUATTRO INCONTRI SUL GIOCO DELLA SABBIA IN ANALISI
DESCRIPTION:A cura di Daniela Bonelli Bassano \n1 Ottobre\, 2016 | 10:00 – 13:30 – Giuseppe Andreetto\nIl Gioco della Sabbia: ritmo e movimento delle immagini in analisi. \n21 Gennaio 2017 | 10:00 – 13:30 – Presentazione del libro collettaneo “Figure della memoria. Ricordare in analisi” a cura di Fulvia De Benedittis e Patrizia Michelis\nDialogheranno con le curatrici: Daniela Bonelli Bassano\, Maurizio Franco\, Paolo Jedlowski e Romano Màdera \n13 Maggio 2017 | 10:00 – 13:30 – Franco Castellana\nTransfert controtransfert e campo analitico. Il contributo post-kalffiano al Gioco della Sabbia nell’analisi junghiana \n23 Settembre 2017 | 10:00 – 13:30 – Pina Galeazzi\nDai sensi ai sensi \nRichiedi informazioni (info@lai-group.org)
URL:https://www.lai-group.org/evento/quattro-incontri-sul-gioco-della-sabbia-in-analisi-1/
LOCATION:Sede Philo\, via Piranesi\, 12\, Milano\, Italia
CATEGORIES:Archivio eventi anni passati,Eventi L.A.I.,Presentazioni,Seminari
ORGANIZER;CN="L.A.I.":MAILTO:info@lai-group.org
END:VEVENT
BEGIN:VEVENT
DTSTART;TZID=UTC:20160924T093000
DTEND;TZID=UTC:20160924T133000
DTSTAMP:20260421T173541
CREATED:20180717T113228Z
LAST-MODIFIED:20200918T080641Z
UID:13001-1474709400-1474723800@www.lai-group.org
SUMMARY:PRESENTAZIONE DEL LIBRO: FIGURE DELLA MEMORIA
DESCRIPTION:PRESENTAZIONE DEL LIBRO FIGURE DELLA MEMORIA\nLe curatrici Fulvia De Benedittis e Patrizia Michelis presentano il libro collettaneo: “Figure della memoria. Ricordare in analisi. Una nuova via nella terapia con il Gioco della Sabbia”. Intervengono Paolo Aite e gli autori del libro che dialogano con Elena Caramazza e Gianluigi Di Cesare. \nRichiedi informazioni (info@lai-group.org)
URL:https://www.lai-group.org/evento/presentazione-del-libro-figure-della-memoria/
LOCATION:Sede AIPA di Roma\, via Antonio Musa\, 15\, Roma\, Italia
CATEGORIES:Archivio eventi anni passati,Eventi L.A.I.,Presentazioni
ORGANIZER;CN="L.A.I.":MAILTO:info@lai-group.org
END:VEVENT
BEGIN:VEVENT
DTSTART;TZID=Europe/Rome:20160829T170000
DTEND;TZID=Europe/Rome:20160829T170000
DTSTAMP:20260421T173541
CREATED:20200918T080510Z
LAST-MODIFIED:20200918T080510Z
UID:14199-1472490000-1472490000@www.lai-group.org
SUMMARY:IAAP XX INTERNATIONAL CONGRESS FOR ANALYTICAL PSYCHOLOGY
DESCRIPTION:Anima Mundi in transition: Cultural\, Clinical\, and Professional Challenges \nAugust 29- September 2\, 2016 \nPeresso\, il 29 agosto alle 17\,15 tiene la relazione: Rhythm in the Co-transferential Processes \nF. de Benedittis\, S. Fersurella\, S. Presciuttini\, il 30 agosto\,alle ore 17\,15\, tengono la relazione: Couples Games and Sand Play. A Jungian Perspective for Couples
URL:https://www.lai-group.org/evento/iaap-xx-international-congress-for-analytical-psychology/
LOCATION:Kyoto International Conference Center\, 422 Iwakura Osagicho\, Sakyo Ward\, Kyoto\, 606-0001\, Giappone
CATEGORIES:Archivio eventi anni passati,Eventi L.A.I.,Seminari
ATTACH;FMTTYPE=image/jpeg:https://www.lai-group.org/wp-content/uploads/2020/09/Kyoto-IMG_3211.jpg
END:VEVENT
BEGIN:VEVENT
DTSTART;TZID=UTC:20160528T093000
DTEND;TZID=UTC:20160528T133000
DTSTAMP:20260421T173541
CREATED:20180717T125846Z
LAST-MODIFIED:20180717T125846Z
UID:13010-1464427800-1464442200@www.lai-group.org
SUMMARY:IL GIOCO DELLA SABBIA IN ANALISI FRA PAROLA E GESTO. IL CASO DI ALESSIA
DESCRIPTION:Con Giuseppe Andreetto \nRichiedi informazioni (info@lai-group.org)
URL:https://www.lai-group.org/evento/il-gioco-della-sabbia-in-analisi-fra-parola-e-gesto-il-caso-di-alessia/
LOCATION:Sede AIPA di Roma\, via Antonio Musa\, 15\, Roma\, Italia
CATEGORIES:Archivio eventi anni passati,Eventi L.A.I.,Seminari
ORGANIZER;CN="L.A.I.":MAILTO:info@lai-group.org
END:VEVENT
BEGIN:VEVENT
DTSTART;TZID=UTC:20160527T170000
DTEND;TZID=UTC:20160527T170000
DTSTAMP:20260421T173541
CREATED:20180726T111509Z
LAST-MODIFIED:20180726T111509Z
UID:13326-1464368400-1464368400@www.lai-group.org
SUMMARY:PRESENTAZIONE DI: "GIOCO E' REALTÀ"
DESCRIPTION:A cura di Paolo Aite e Pina Galeazzi – numero 40 della rivista di psicologia analitica \nCon R. Finelli\, F. Lorenzoni\, A.M. Sassone e F. Strumia \nRichiedi informazioni (info@lai-group.org)
URL:https://www.lai-group.org/evento/presentazione-di-gioco-e-realta/
LOCATION:Consorzio Casa Internazionale Delle Donne\, Via della Lungara\, 19\, Roma\, Italia
CATEGORIES:Archivio eventi anni passati,Eventi L.A.I.,Presentazioni
ORGANIZER;CN="L.A.I.":MAILTO:info@lai-group.org
END:VEVENT
BEGIN:VEVENT
DTSTART;TZID=UTC:20160416T093000
DTEND;TZID=UTC:20160416T133000
DTSTAMP:20260421T173541
CREATED:20180717T122728Z
LAST-MODIFIED:20180717T122728Z
UID:13007-1460799000-1460813400@www.lai-group.org
SUMMARY:IL CASO DI ANNA
DESCRIPTION:Con Silvana Sodini \nRichiedi informazioni (info@lai-group.org)
URL:https://www.lai-group.org/evento/il-caso-di-anna/
LOCATION:Sede AIPA di Roma\, via Antonio Musa\, 15\, Roma\, Italia
CATEGORIES:Archivio eventi anni passati,Eventi L.A.I.,Seminari
ORGANIZER;CN="L.A.I.":MAILTO:info@lai-group.org
END:VEVENT
BEGIN:VEVENT
DTSTART;TZID=Europe/Rome:20160319T103000
DTEND;TZID=Europe/Rome:20160319T153000
DTSTAMP:20260421T173541
CREATED:20200918T080044Z
LAST-MODIFIED:20200918T080044Z
UID:14197-1458383400-1458401400@www.lai-group.org
SUMMARY:EDINBURGH NEUROSCIENCE RESEARCH GROUP
DESCRIPTION:19 Marzo-18 Giugno-24 Settembre\, 2016 \nP.Peresso\,il 19 Marzo\, il 18 Giugno e il 24 settembre \nAlle 10\,45 tiene 3 Relazioni su: Neuroscience\, Countertransference and Sand Play
URL:https://www.lai-group.org/evento/edinburgh-neuroscience-research-group-2/
LOCATION:Edinburgh Quaker Meeting House\, 7 Victoria Terrace\, Edimburgh\, EH1 2JL\, Regno Unito
CATEGORIES:Archivio eventi anni passati,Eventi L.A.I.,Seminari
END:VEVENT
BEGIN:VEVENT
DTSTART;TZID=UTC:20160227T093000
DTEND;TZID=UTC:20160227T133000
DTSTAMP:20260421T173541
CREATED:20180717T130409Z
LAST-MODIFIED:20180717T130409Z
UID:13012-1456565400-1456579800@www.lai-group.org
SUMMARY:IL GIOCO DELLA SABBIA IN ANALISI
DESCRIPTION:Con Franco Castellana \nRichiedi informazioni (info@lai-group.org)
URL:https://www.lai-group.org/evento/il-gioco-della-sabbia-in-analisi/
LOCATION:Sede AIPA Roma\, via Pisanelli\, 1\, Roma\, Italia
CATEGORIES:Archivio eventi anni passati,Eventi L.A.I.,Seminari
ORGANIZER;CN="L.A.I.":MAILTO:info@lai-group.org
END:VEVENT
BEGIN:VEVENT
DTSTART;TZID=UTC:20160123T093000
DTEND;TZID=UTC:20160123T133000
DTSTAMP:20260421T173541
CREATED:20180717T112559Z
LAST-MODIFIED:20180717T112559Z
UID:12997-1453541400-1453555800@www.lai-group.org
SUMMARY:IL GIOCO DELLA SABBIA IN UN GRUPPO COSIDDETTO "NON TERAPEUTICO". TRA FORMAZIONE E TERAPIA
DESCRIPTION:Con Angelo Malinconico \nRichiedi informazioni (info@lai-group.org)
URL:https://www.lai-group.org/evento/il-gioco-della-sabbia-in-un-gruppo-cosiddetto-non-terapeutico-tra-formazione-e-terapia/
LOCATION:Sede AIPA di Roma\, via Antonio Musa\, 15\, Roma\, Italia
CATEGORIES:Archivio eventi anni passati,Eventi L.A.I.,Seminari
ORGANIZER;CN="L.A.I.":MAILTO:info@lai-group.org
END:VEVENT
BEGIN:VEVENT
DTSTART;TZID=UTC:20160116T093000
DTEND;TZID=UTC:20160116T133000
DTSTAMP:20260421T173541
CREATED:20180628T134319Z
LAST-MODIFIED:20180628T134319Z
UID:12708-1452936600-1452951000@www.lai-group.org
SUMMARY:IMMAGINI DI SABBIA. TRE INCONTRI SUL GIOCO DELLE SABBIA
DESCRIPTION:Coordina: Clementina Pavoni \n16 Gennaio\, 2016 – 9:30: Lella Ravasi e Iolanda Stocchi “Cura e gioco. Essere bambini” \n6 Febbraio\, 2016 – 9:30: Paolo Aite e Pina Galeazzi: “La prospettiva aperta dal “Gioco della Sabbia” nell’analisi dell’adulto \n19 Marzo\, 2016 – 9:30: Daniela Bonelli Bassano\, Nicole Janigro\, Romano Màdera\, Ivan Paterlini\, Clementina Pavoni: “Il gioco (con la materia e gli oggetti) in analisi: quali nuove possibilità al processo trasformativo?” \nRichiedi informazioni (info@lai-group.org)
URL:https://www.lai-group.org/evento/immagini-di-sabbia-tre-incontri-sul-gioco-delle-sabbia-1/
LOCATION:Sede AIPA Milano\, Via Sacchini\, 23\, Milano\, Italia
CATEGORIES:Archivio eventi anni passati,Eventi L.A.I.,Seminari
ORGANIZER;CN="L.A.I.":MAILTO:info@lai-group.org
END:VEVENT
BEGIN:VEVENT
DTSTART;TZID=Europe/Rome:20160114T203000
DTEND;TZID=Europe/Rome:20160114T223000
DTSTAMP:20260421T173541
CREATED:20200918T075854Z
LAST-MODIFIED:20200918T075854Z
UID:14195-1452803400-1452810600@www.lai-group.org
SUMMARY:LE DINAMICHE CO-TRANSFERALI NEI SOGNI E NELLE SABBIE
DESCRIPTION:Gruppo ECM di formazione sul campo per la Ricerca Teorico-Clinica sulle dinamiche co-transferali nei sogni e nelle sabbie. \nCoordinato da Patrizia Peresso \nRiservato agli iscritti. \nNel 2016 il lavoro si articolerà in 10 incontri da gennaio a novembre con l’esclusione di agosto\, il secondo giovedì di ogni mese dalle 20\,30 alle 22\,30.
URL:https://www.lai-group.org/evento/le-dinamiche-co-transferali-nei-sogni-e-nelle-sabbie-7/
LOCATION:Sede AIPA di Roma\, via Antonio Musa\, 15\, Roma\, Italia
CATEGORIES:Archivio eventi anni passati,Eventi L.A.I.,Formazione
END:VEVENT
BEGIN:VEVENT
DTSTART;TZID=Europe/Rome:20160113T110000
DTEND;TZID=Europe/Rome:20160113T130000
DTSTAMP:20260421T173541
CREATED:20200918T075728Z
LAST-MODIFIED:20200918T075728Z
UID:14193-1452682800-1452690000@www.lai-group.org
SUMMARY:UNA PSICOLOGIA ANALITICA PER LA COPPIA
DESCRIPTION:Gruppo ECM di formazione sul campo per la Ricerca Teorico-Clinica sulla terapia con le coppie. \nCon Fulvia De Benedittis\, Sandra Fersurella\, Silvia Presciuttini. \nRiservato agli iscritti.\nNel 2016 il lavoro si articolerà in 10 incontri da gennaio a novembre con l’esclusione di agosto\, il secondo mercoledì di ogni mese dalle 11 alle 13.
URL:https://www.lai-group.org/evento/una-psicologia-analitica-per-la-coppia-8/
LOCATION:Sede AIPA di Roma\, via Antonio Musa\, 15\, Roma\, Italia
CATEGORIES:Archivio eventi anni passati,Eventi L.A.I.,Formazione
END:VEVENT
BEGIN:VEVENT
DTSTART;TZID=Europe/Rome:20151212T090000
DTEND;TZID=Europe/Rome:20151212T170000
DTSTAMP:20260421T173541
CREATED:20200918T075439Z
LAST-MODIFIED:20200918T075439Z
UID:14191-1449910800-1449939600@www.lai-group.org
SUMMARY:CORSO ECM ATTUALITÀ DELLA PSICOTERAPIA JUNGHIANA
DESCRIPTION:Patrizia Peresso\, il 12 dicembre alle 9 tiene una Conferenza su Psicologia analitica\, Neuroscienze e Gioco della Sabbia nel Corso ECM Attualità della psicoterapia analitica\nRiservato agli iscritti.
URL:https://www.lai-group.org/evento/corso-ecm-attualita-della-psicoterapia-junghiana/
LOCATION:Sede AIPA di Roma\, via Antonio Musa\, 15\, Roma\, Italia
CATEGORIES:Archivio eventi anni passati,Eventi L.A.I.,Seminari
END:VEVENT
BEGIN:VEVENT
DTSTART;TZID=UTC:20151128T093000
DTEND;TZID=UTC:20151128T133000
DTSTAMP:20260421T173541
CREATED:20180628T134844Z
LAST-MODIFIED:20180628T134844Z
UID:12657-1448703000-1448717400@www.lai-group.org
SUMMARY:TOCCARE LA MEMORIA: RIMEMBRANZA E RINASCITA
DESCRIPTION:Con Pina Galeazzi \nRichiedi informazioni (info@lai-group.org)
URL:https://www.lai-group.org/evento/toccare-la-memoria-rimembranza-e-rinascita/
LOCATION:Sede AIPA di Roma\, via Antonio Musa\, 15\, Roma\, Italia
CATEGORIES:Archivio eventi anni passati,Eventi L.A.I.,Seminari
ORGANIZER;CN="L.A.I.":MAILTO:info@lai-group.org
END:VEVENT
END:VCALENDAR